BEGIN:VCALENDAR
VERSION:2.0
PRODID:spatie/icalendar-generator
DESCRIPTION:Events from St. Paul&amp;#039\;s United Church
X-WR-CALDESC:Events from St. Paul&amp;#039\;s United Church
REFRESH-INTERVAL;VALUE=DURATION:PT1440M
X-PUBLISHED-TTL:PT1440M
BEGIN:VTIMEZONE
TZID:America/Toronto
BEGIN:STANDARD
DTSTART:20211107T020000Z
TZOFFSETFROM:-0400
TZOFFSETTO:-0500
END:STANDARD
BEGIN:DAYLIGHT
DTSTART:20220313T020000Z
TZOFFSETFROM:-0500
TZOFFSETTO:-0400
END:DAYLIGHT
END:VTIMEZONE
BEGIN:VTIMEZONE
TZID:UTC
BEGIN:STANDARD
DTSTART:20250723T140434Z
TZOFFSETFROM:+0000
TZOFFSETTO:+0000
END:STANDARD
END:VTIMEZONE
BEGIN:VEVENT
UID:11339-424
DTSTAMP:20260419T140434Z
SUMMARY:Good Friday Worship Service - hosted by STPC
LOCATION:St. Paul\\'s United Church 65 Kings Crescent  Ajax Ontario L1S 2M4
ORGANIZER;CN=Katie Wood:MAILTO:woodfamcan@gmail.com
DTSTART;TZID=America/Toronto:20220415T110000
DTEND;TZID=America/Toronto:20220415T120000
X-ALT-DESC;FMTTYPE=TEXT/HTML:Location: Sanctuary
CATEGORIES:Worship
URL;VALUE=URI:https://stpaulsajax.org/mc-events/good-friday-worship-service
 -hosted-by-stpc/
METHOD:PUBLISH
END:VEVENT
END:VCALENDAR