BEGIN:VCALENDAR
VERSION:2.0
PRODID:spatie/icalendar-generator
DESCRIPTION:Events from St. Paul&amp;#039\;s United Church
X-WR-CALDESC:Events from St. Paul&amp;#039\;s United Church
REFRESH-INTERVAL;VALUE=DURATION:PT1440M
X-PUBLISHED-TTL:PT1440M
BEGIN:VTIMEZONE
TZID:America/Toronto
BEGIN:STANDARD
DTSTART:20181104T020000Z
TZOFFSETFROM:-0400
TZOFFSETTO:-0500
END:STANDARD
BEGIN:DAYLIGHT
DTSTART:20190310T020000Z
TZOFFSETFROM:-0500
TZOFFSETTO:-0400
END:DAYLIGHT
END:VTIMEZONE
BEGIN:VTIMEZONE
TZID:UTC
BEGIN:STANDARD
DTSTART:20250730T042100Z
TZOFFSETFROM:+0000
TZOFFSETTO:+0000
END:STANDARD
END:VTIMEZONE
BEGIN:VEVENT
UID:1160-193
DTSTAMP:20260426T042100Z
SUMMARY:Sunday Worship - Palm Sunday
LOCATION:
ORGANIZER;CN=Katie Wood:MAILTO:woodfamcan@gmail.com
DTSTART;TZID=America/Toronto:20190414T103000
DTEND;TZID=America/Toronto:20190414T113000
X-ALT-DESC;FMTTYPE=TEXT/HTML:Location:  Sanctuary On April 14\, 2019\, the
  Senior Choir is presenting Come to the Cross and Remember by Pepper Chopl
 in. Last year this Cantata was so well received that it was decided to red
 o it\, adding still photos on the sanctuary screens\, making it even more 
 of a multi- media presentation. The 20 voices of&amp;hellip\;
CATEGORIES:Worship
URL;VALUE=URI:https://stpaulsajax.org/mc-events/sunday-worship-palm-sunday-
 2/
METHOD:PUBLISH
END:VEVENT
END:VCALENDAR