BEGIN:VCALENDAR
VERSION:2.0
PRODID:spatie/icalendar-generator
DESCRIPTION:Events from St. Paul&amp;#039\;s United Church
X-WR-CALDESC:Events from St. Paul&amp;#039\;s United Church
REFRESH-INTERVAL;VALUE=DURATION:PT1440M
X-PUBLISHED-TTL:PT1440M
BEGIN:VTIMEZONE
TZID:America/Toronto
BEGIN:STANDARD
DTSTART:20181104T020000Z
TZOFFSETFROM:-0400
TZOFFSETTO:-0500
END:STANDARD
BEGIN:DAYLIGHT
DTSTART:20190310T020000Z
TZOFFSETFROM:-0500
TZOFFSETTO:-0400
END:DAYLIGHT
END:VTIMEZONE
BEGIN:VTIMEZONE
TZID:UTC
BEGIN:STANDARD
DTSTART:20250730T025812Z
TZOFFSETFROM:+0000
TZOFFSETTO:+0000
END:STANDARD
END:VTIMEZONE
BEGIN:VEVENT
UID:1321-178
DTSTAMP:20260426T025812Z
SUMMARY:Maundy Thursday Worship
LOCATION:
ORGANIZER;CN=Katie Wood:MAILTO:woodfamcan@gmail.com
DTSTART;TZID=America/Toronto:20190418T190000
DTEND;TZID=America/Toronto:20190418T193000
X-ALT-DESC;FMTTYPE=TEXT/HTML:Location: Sanctuary On April 18th\, please joi
 n us as we commemorate the Last Supper when Jesus shared the Passover meal
  with his disciples on the night before he was crucified. For information 
 on all the 2019 Holy Week services\, please click on the underlined text b
 elow. 2019 Holy Week Services
CATEGORIES:Worship
URL;VALUE=URI:https://stpaulsajax.org/mc-events/maundy-thursday-worship/
METHOD:PUBLISH
END:VEVENT
END:VCALENDAR