BEGIN:VCALENDAR
VERSION:2.0
PRODID:spatie/icalendar-generator
DESCRIPTION:Events from St. Paul&amp;#039\;s United Church
X-WR-CALDESC:Events from St. Paul&amp;#039\;s United Church
REFRESH-INTERVAL;VALUE=DURATION:PT1440M
X-PUBLISHED-TTL:PT1440M
BEGIN:VTIMEZONE
TZID:America/Toronto
BEGIN:STANDARD
DTSTART:20181104T020000Z
TZOFFSETFROM:-0400
TZOFFSETTO:-0500
END:STANDARD
BEGIN:DAYLIGHT
DTSTART:20190310T020000Z
TZOFFSETFROM:-0500
TZOFFSETTO:-0400
END:DAYLIGHT
END:VTIMEZONE
BEGIN:VTIMEZONE
TZID:UTC
BEGIN:STANDARD
DTSTART:20250730T030124Z
TZOFFSETFROM:+0000
TZOFFSETTO:+0000
END:STANDARD
END:VTIMEZONE
BEGIN:VEVENT
UID:1322-179
DTSTAMP:20260426T030124Z
SUMMARY:Good Friday Worship
LOCATION:
ORGANIZER;CN=Katie Wood:MAILTO:woodfamcan@gmail.com
DTSTART;TZID=America/Toronto:20190419T110000
DTEND;TZID=America/Toronto:20190419T123000
X-ALT-DESC;FMTTYPE=TEXT/HTML:Location: St. Timothy's Presbyterian Church On
  April 19th\, please join us as the combined congregations of St. Timothy'
 s Presbyterian Church and St. Paul's United Church once again come togethe
 r to commemorate the crucifixion of Jesus. For more information on 2019 Ho
 ly Week services\, please click on the underlined text below. 2019 Holy We
 ek Services
CATEGORIES:Worship
URL;VALUE=URI:https://stpaulsajax.org/mc-events/good-friday-worship/
METHOD:PUBLISH
END:VEVENT
END:VCALENDAR