BEGIN:VCALENDAR
VERSION:2.0
PRODID:spatie/icalendar-generator
DESCRIPTION:Events from St. Paul&amp;#039\;s United Church
X-WR-CALDESC:Events from St. Paul&amp;#039\;s United Church
REFRESH-INTERVAL;VALUE=DURATION:PT1440M
X-PUBLISHED-TTL:PT1440M
BEGIN:VTIMEZONE
TZID:America/Toronto
BEGIN:DAYLIGHT
DTSTART:20180311T020000Z
TZOFFSETFROM:-0500
TZOFFSETTO:-0400
END:DAYLIGHT
BEGIN:STANDARD
DTSTART:20181104T020000Z
TZOFFSETFROM:-0400
TZOFFSETTO:-0500
END:STANDARD
BEGIN:DAYLIGHT
DTSTART:20190310T020000Z
TZOFFSETFROM:-0500
TZOFFSETTO:-0400
END:DAYLIGHT
END:VTIMEZONE
BEGIN:VTIMEZONE
TZID:UTC
BEGIN:STANDARD
DTSTART:20250726T084102Z
TZOFFSETFROM:+0000
TZOFFSETTO:+0000
END:STANDARD
END:VTIMEZONE
BEGIN:VEVENT
UID:95-35
DTSTAMP:20260422T084102Z
SUMMARY:Senior Choir Rehearsal and Open House
LOCATION:
ORGANIZER;CN=Katie Wood:MAILTO:woodfamcan@gmail.com
DTSTART;TZID=America/Toronto:20181018T190000
DTEND;TZID=America/Toronto:20181018T210000
X-ALT-DESC;FMTTYPE=TEXT/HTML:&amp;nbsp\; &amp;nbsp\; &amp;nbsp\; &amp;nbsp\; &amp;nbsp\; &amp;nbsp\
 ; &amp;nbsp\; &amp;nbsp\; Date: Thursday\, October 18\, 2018 Time:  7 p.m. - 8:1
 5 p.m.—Rehearsal 8:15 p.m.—9:00 p.m.—Snacks Location: St. Paul's Un
 ited Church\, Sanctuary\, 65 Kings Crescent Ajax\, ON  L1S 2M4 Have you e
 ver wondered what happens during a Senior Choir practice? Come out to see\
 , sing and experience it. For more information\,&amp;hellip\;
CATEGORIES:Programs &amp; Activities
URL;VALUE=URI:https://stpaulsajax.org/mc-events/senior-choir-rehearsal-and-
 open-house/
METHOD:PUBLISH
END:VEVENT
END:VCALENDAR