BEGIN:VCALENDAR
VERSION:2.0
PRODID:spatie/icalendar-generator
DESCRIPTION:Events from St. Paul&amp;#039\;s United Church
X-WR-CALDESC:Events from St. Paul&amp;#039\;s United Church
REFRESH-INTERVAL;VALUE=DURATION:PT1440M
X-PUBLISHED-TTL:PT1440M
BEGIN:VTIMEZONE
TZID:America/Toronto
BEGIN:STANDARD
DTSTART:20211107T020000Z
TZOFFSETFROM:-0400
TZOFFSETTO:-0500
END:STANDARD
BEGIN:DAYLIGHT
DTSTART:20220313T020000Z
TZOFFSETFROM:-0500
TZOFFSETTO:-0400
END:DAYLIGHT
BEGIN:STANDARD
DTSTART:20221106T020000Z
TZOFFSETFROM:-0400
TZOFFSETTO:-0500
END:STANDARD
END:VTIMEZONE
BEGIN:VTIMEZONE
TZID:UTC
BEGIN:STANDARD
DTSTART:20250726T083809Z
TZOFFSETFROM:+0000
TZOFFSETTO:+0000
END:STANDARD
END:VTIMEZONE
BEGIN:VEVENT
UID:11071-391
DTSTAMP:20260422T083809Z
SUMMARY:Impact Village
LOCATION:
ORGANIZER;CN=admin:MAILTO:wordpress@cmswebsolutions.com
RRULE:FREQ=WEEKLY;UNTIL=20220628T000000Z
DTSTART;TZID=America/Toronto:20220621T153000
DTEND;TZID=America/Toronto:20220621T183000
X-ALT-DESC;FMTTYPE=TEXT/HTML:Location: Basement Impact Village is committe
 d to providing holistic ABA services\, educational and supportive resource
 s\, parent/caregiver support and training\, and consultative services that
  are built to set up individuals and their families for success in both th
 eir everyday life at home\, as well as within their communities.   For m
 ore information\, please visit impactvillage.ca.
CATEGORIES:Partners
URL;VALUE=URI:https://stpaulsajax.org/mc-events/impact-village-3/?mc_id=110
 71
METHOD:PUBLISH
END:VEVENT
END:VCALENDAR