BEGIN:VCALENDAR
VERSION:2.0
PRODID:spatie/icalendar-generator
DESCRIPTION:Events from St. Paul&amp;#039\;s United Church
X-WR-CALDESC:Events from St. Paul&amp;#039\;s United Church
REFRESH-INTERVAL;VALUE=DURATION:PT1440M
X-PUBLISHED-TTL:PT1440M
BEGIN:VTIMEZONE
TZID:America/Toronto
BEGIN:STANDARD
DTSTART:20211107T020000Z
TZOFFSETFROM:-0400
TZOFFSETTO:-0500
END:STANDARD
BEGIN:DAYLIGHT
DTSTART:20220313T020000Z
TZOFFSETFROM:-0500
TZOFFSETTO:-0400
END:DAYLIGHT
BEGIN:STANDARD
DTSTART:20221106T020000Z
TZOFFSETFROM:-0400
TZOFFSETTO:-0500
END:STANDARD
END:VTIMEZONE
BEGIN:VTIMEZONE
TZID:UTC
BEGIN:STANDARD
DTSTART:20250724T154308Z
TZOFFSETFROM:+0000
TZOFFSETTO:+0000
END:STANDARD
END:VTIMEZONE
BEGIN:VEVENT
UID:11349-431
DTSTAMP:20260420T154308Z
SUMMARY:New to You Garage Sale 2022
LOCATION:St. Paul\\'s United Church 65 Kings Crescent  Ajax Ontario L1S 2M4
ORGANIZER;CN=Katie Wood:MAILTO:woodfamcan@gmail.com
DTSTART;TZID=America/Toronto:20220514T080000
DTEND;TZID=America/Toronto:20220514T130000
X-ALT-DESC;FMTTYPE=TEXT/HTML:Location: St. Paul's United Church - Indoors P
 lease join us on Saturday\, May 14th for the annual SPUC New to You Garage
  Sale.  The event runs from 8:00 a.m. to 1:00 p.m.  Lots of great bargai
 ns and a wonderful way to support the church.  Since this is an indoor ev
 ent\, please know that masks are&amp;hellip\;
CATEGORIES:Events
URL;VALUE=URI:https://stpaulsajax.org/mc-events/new-to-you-garage-sale-2022
 /
METHOD:PUBLISH
END:VEVENT
END:VCALENDAR