BEGIN:VCALENDAR
VERSION:2.0
PRODID:spatie/icalendar-generator
DESCRIPTION:Events from St. Paul&amp;#039\;s United Church
X-WR-CALDESC:Events from St. Paul&amp;#039\;s United Church
REFRESH-INTERVAL;VALUE=DURATION:PT1440M
X-PUBLISHED-TTL:PT1440M
BEGIN:VTIMEZONE
TZID:America/Toronto
BEGIN:DAYLIGHT
DTSTART:20180311T020000Z
TZOFFSETFROM:-0500
TZOFFSETTO:-0400
END:DAYLIGHT
BEGIN:STANDARD
DTSTART:20181104T020000Z
TZOFFSETFROM:-0400
TZOFFSETTO:-0500
END:STANDARD
BEGIN:DAYLIGHT
DTSTART:20190310T020000Z
TZOFFSETFROM:-0500
TZOFFSETTO:-0400
END:DAYLIGHT
END:VTIMEZONE
BEGIN:VTIMEZONE
TZID:UTC
BEGIN:STANDARD
DTSTART:20250726T100524Z
TZOFFSETFROM:+0000
TZOFFSETTO:+0000
END:STANDARD
END:VTIMEZONE
BEGIN:VEVENT
UID:126-47
DTSTAMP:20260422T100524Z
SUMMARY:Ladies Exercise Group
LOCATION:
ORGANIZER;CN=admin:MAILTO:wordpress@cmswebsolutions.com
DTSTART;TZID=America/Toronto:20181018T130000
DTEND;TZID=America/Toronto:20181018T140000
X-ALT-DESC;FMTTYPE=TEXT/HTML:Location: Fellowship Room
CATEGORIES:Programs &amp; Activities
URL;VALUE=URI:https://stpaulsajax.org/mc-events/ladies-exercise-group-2/
METHOD:PUBLISH
END:VEVENT
END:VCALENDAR