BEGIN:VCALENDAR
VERSION:2.0
PRODID:spatie/icalendar-generator
DESCRIPTION:Events from St. Paul&amp;#039\;s United Church
X-WR-CALDESC:Events from St. Paul&amp;#039\;s United Church
REFRESH-INTERVAL;VALUE=DURATION:PT1440M
X-PUBLISHED-TTL:PT1440M
BEGIN:VTIMEZONE
TZID:America/Toronto
BEGIN:STANDARD
DTSTART:20241103T020000Z
TZOFFSETFROM:-0400
TZOFFSETTO:-0500
END:STANDARD
BEGIN:DAYLIGHT
DTSTART:20250309T020000Z
TZOFFSETFROM:-0500
TZOFFSETTO:-0400
END:DAYLIGHT
END:VTIMEZONE
BEGIN:VTIMEZONE
TZID:UTC
BEGIN:STANDARD
DTSTART:20250724T081334Z
TZOFFSETFROM:+0000
TZOFFSETTO:+0000
END:STANDARD
END:VTIMEZONE
BEGIN:VEVENT
UID:12922-565
DTSTAMP:20260420T081334Z
SUMMARY:Alcoholics Anonymous (AA) - Fridays
LOCATION:
ORGANIZER;CN=Katie Wood:MAILTO:woodfamcan@gmail.com
DTSTART;TZID=America/Toronto:20241220T203000
DTEND;TZID=America/Toronto:20241220T213000
X-ALT-DESC;FMTTYPE=TEXT/HTML:
CATEGORIES:Partners
URL;VALUE=URI:https://stpaulsajax.org/mc-events/alcoholics-anonymous-aa-fri
 days/
METHOD:PUBLISH
END:VEVENT
END:VCALENDAR